BEGIN:VCALENDAR
PRODID:-//eluceo/ical//2.0/EN
VERSION:2.0
CALSCALE:GREGORIAN
BEGIN:VEVENT
UID:01c9ac9b06498d79ed4d11d22a38fe85
DTSTAMP:20260422T111652Z
SUMMARY:Union Payroll Rules (Traffic Control) 
DTSTART:20260423T190000Z
DTEND:20260423T200000Z
LOCATION:Virtual - Zoom
END:VEVENT
END:VCALENDAR
