BEGIN:VCALENDAR
PRODID:-//eluceo/ical//2.0/EN
VERSION:2.0
CALSCALE:GREGORIAN
BEGIN:VEVENT
UID:72ad74d9b669b5a059ec3b2f956bbd22
DTSTAMP:20260422T111652Z
SUMMARY:Busting Imposter Syndrome: A Workshop for Construction Industry Pro
 fessionals
DTSTART:20260430T210000Z
DTEND:20260430T230000Z
LOCATION:Virtual - Zoom
END:VEVENT
END:VCALENDAR
