BEGIN:VCALENDAR
PRODID:-//eluceo/ical//2.0/EN
VERSION:2.0
CALSCALE:GREGORIAN
BEGIN:VEVENT
UID:bcf216b233df038db56d1444368bebb9
DTSTAMP:20260425T190235Z
SUMMARY:Mastering Prevailing Wage CPRs to 3rd Party Compliance 
DTSTART:20260512T190000Z
DTEND:20260512T200000Z
LOCATION:Virtual - Zoom
END:VEVENT
END:VCALENDAR
