BEGIN:VCALENDAR
PRODID:-//eluceo/ical//2.0/EN
VERSION:2.0
CALSCALE:GREGORIAN
BEGIN:VEVENT
UID:23bfa3719d5bac3e467f3c253745be01
DTSTAMP:20260425T163036Z
SUMMARY:PLAs\, Pre-Jobs\, & Jurisdictional Disputes 
DTSTART:20260916T190000Z
DTEND:20260916T193000Z
LOCATION:Virtual - Zoom
END:VEVENT
END:VCALENDAR
