BEGIN:VCALENDAR
PRODID:-//eluceo/ical//2.0/EN
VERSION:2.0
CALSCALE:GREGORIAN
BEGIN:VEVENT
UID:5074bb29182969f2f5a7733618e468a4
DTSTAMP:20260425T162433Z
SUMMARY:Grievance Procedures and Dispute Resolution
DTSTART:20260618T190000Z
DTEND:20260618T200000Z
LOCATION:Virtual - Zoom
END:VEVENT
END:VCALENDAR
