BEGIN:VCALENDAR
PRODID:-//eluceo/ical//2.0/EN
VERSION:2.0
CALSCALE:GREGORIAN
BEGIN:VEVENT
UID:0e680508231a9630a5b9d3d6a211baa5
DTSTAMP:20260422T110839Z
SUMMARY:Deep Dive into Contractors’ Financial Statements
DTSTART:20260428T210000Z
DTEND:20260428T230000Z
LOCATION:Virtual - Zoom
END:VEVENT
END:VCALENDAR
