BEGIN:VCALENDAR
PRODID:-//eluceo/ical//2.0/EN
VERSION:2.0
CALSCALE:GREGORIAN
BEGIN:VEVENT
UID:8350670a5b25f9bb2f43d4a60b71da0f
DTSTAMP:20260425T151714Z
SUMMARY:2026 Communication Masterclass [series]
DTSTART:20260507T170000Z
DTEND:20260521T200000Z
LOCATION:Virtual - Zoom
END:VEVENT
END:VCALENDAR
